BEGIN:VCALENDAR
VERSION:2.0
PRODID:-//hacksw/handcal//NONSGML v1.0//EN
BEGIN:VEVENT
DTSTAMP:20200714T123000Z
DTSTART:20200714T123000Z
DTEND:20200714T123000Z
LOCATION:Land & Leute Erlebnishof Dithmarschen, Wehren 1, Oesterwurth, 25764, Deutschland
SUMMARY:Besuch Land & Leute - Erlebnishof Dithmarschen
END:VEVENT
END:VCALENDAR
