BEGIN:VCALENDAR
VERSION:2.0
PRODID:-//hacksw/handcal//NONSGML v1.0//EN
BEGIN:VEVENT
DTSTAMP:20200716T143000Z
DTSTART:20200716T143000Z
DTEND:20200716T143000Z
LOCATION:Eiderland Bäckerei, Mühlenberg 14, Pahlen, 25794 , Deutschland
SUMMARY:Besuch Eiderland Bäckerei
END:VEVENT
END:VCALENDAR
